BEGIN:VCALENDAR
VERSION:2.0
PRODID:-//Gaudium Praha - ECPv6.15.15//NONSGML v1.0//EN
CALSCALE:GREGORIAN
METHOD:PUBLISH
X-WR-CALNAME:Gaudium Praha
X-ORIGINAL-URL:https://www.gaudiumpraha.org
X-WR-CALDESC:Akce na Gaudium Praha
REFRESH-INTERVAL;VALUE=DURATION:PT1H
X-Robots-Tag:noindex
X-PUBLISHED-TTL:PT1H
BEGIN:VTIMEZONE
TZID:Europe/Prague
BEGIN:DAYLIGHT
TZOFFSETFROM:+0100
TZOFFSETTO:+0200
TZNAME:CEST
DTSTART:20250330T010000
END:DAYLIGHT
BEGIN:STANDARD
TZOFFSETFROM:+0200
TZOFFSETTO:+0100
TZNAME:CET
DTSTART:20251026T010000
END:STANDARD
BEGIN:DAYLIGHT
TZOFFSETFROM:+0100
TZOFFSETTO:+0200
TZNAME:CEST
DTSTART:20260329T010000
END:DAYLIGHT
BEGIN:STANDARD
TZOFFSETFROM:+0200
TZOFFSETTO:+0100
TZNAME:CET
DTSTART:20261025T010000
END:STANDARD
BEGIN:DAYLIGHT
TZOFFSETFROM:+0100
TZOFFSETTO:+0200
TZNAME:CEST
DTSTART:20270328T010000
END:DAYLIGHT
BEGIN:STANDARD
TZOFFSETFROM:+0200
TZOFFSETTO:+0100
TZNAME:CET
DTSTART:20271031T010000
END:STANDARD
END:VTIMEZONE
BEGIN:VEVENT
DTSTART;VALUE=DATE:20260423
DTEND;VALUE=DATE:20260427
DTSTAMP:20260420T025009
CREATED:20251205T201740Z
LAST-MODIFIED:20251205T201740Z
UID:3999-1776902400-1777247999@www.gaudiumpraha.org
SUMMARY:Koncertní zájezd do Berlína
DESCRIPTION:
URL:https://www.gaudiumpraha.org/event/koncertni-zajezd-do-berlina/
ATTACH;FMTTYPE=image/jpeg:https://www.gaudiumpraha.org/wp-content/uploads/2025/12/Brandenburger_Tor_morgens-1-scaled.jpg
END:VEVENT
BEGIN:VEVENT
DTSTART;TZID=Europe/Prague:20260517T170000
DTEND;TZID=Europe/Prague:20260517T183000
DTSTAMP:20260420T025009
CREATED:20251205T202524Z
LAST-MODIFIED:20251205T202524Z
UID:4002-1779037200-1779042600@www.gaudiumpraha.org
SUMMARY:Jarní koncert
DESCRIPTION:
URL:https://www.gaudiumpraha.org/event/jarni-koncert-3/
LOCATION:Kostel Svaté Rodiny\, Domov svatého Karla Boromejského\, K Šancím 50\, Praha 17\, 163 00
ATTACH;FMTTYPE=image/jpeg:https://www.gaudiumpraha.org/wp-content/uploads/2024/04/Svata-Rodina.jpg
END:VEVENT
BEGIN:VEVENT
DTSTART;TZID=Europe/Prague:20260529T170000
DTEND;TZID=Europe/Prague:20260529T183000
DTSTAMP:20260420T025009
CREATED:20251205T203526Z
LAST-MODIFIED:20251205T203633Z
UID:4008-1780074000-1780079400@www.gaudiumpraha.org
SUMMARY:Noc kostelů
DESCRIPTION:
URL:https://www.gaudiumpraha.org/event/noc-kostelu/
LOCATION:Kostel Povýšení sv. Kříže\, Kunratice u Cvikova 403\, Kunratice u Cvikova\, 471 55
ATTACH;FMTTYPE=image/jpeg:https://www.gaudiumpraha.org/wp-content/uploads/2025/12/Cvikov.jpg
END:VEVENT
BEGIN:VEVENT
DTSTART;TZID=Europe/Prague:20260621T190000
DTEND;TZID=Europe/Prague:20260621T190000
DTSTAMP:20260420T025009
CREATED:20251216T210156Z
LAST-MODIFIED:20251216T210156Z
UID:4049-1782068400-1782068400@www.gaudiumpraha.org
SUMMARY:Antonín Dvořák: Mše D dur („Lužanská“)\, op. 86
DESCRIPTION:
URL:https://www.gaudiumpraha.org/event/antonin-dvorak-mse-d-dur-luzanska-op-86/
LOCATION:Kostel sv. Fabiána a Šebestiána\, Libocká 41/5\, Praha 6 - Liboc\, 162 00
ATTACH;FMTTYPE=image/jpeg:https://www.gaudiumpraha.org/wp-content/uploads/2024/04/Praha_Liboc_pohled_rybnik_02.jpg
END:VEVENT
END:VCALENDAR